BEGIN:VCALENDAR
VERSION:2.0
PRODID:-//FWG - FREIE WÄHLER GEMEINSCHAFT - ECPv6.15.12.2//NONSGML v1.0//EN
CALSCALE:GREGORIAN
METHOD:PUBLISH
X-ORIGINAL-URL:https://fwg-landkreis-miesbach.de
X-WR-CALDESC:Veranstaltungen für FWG - FREIE WÄHLER GEMEINSCHAFT
REFRESH-INTERVAL;VALUE=DURATION:PT1H
X-Robots-Tag:noindex
X-PUBLISHED-TTL:PT1H
BEGIN:VTIMEZONE
TZID:Europe/Berlin
BEGIN:DAYLIGHT
TZOFFSETFROM:+0100
TZOFFSETTO:+0200
TZNAME:CEST
DTSTART:20240331T010000
END:DAYLIGHT
BEGIN:STANDARD
TZOFFSETFROM:+0200
TZOFFSETTO:+0100
TZNAME:CET
DTSTART:20241027T010000
END:STANDARD
BEGIN:DAYLIGHT
TZOFFSETFROM:+0100
TZOFFSETTO:+0200
TZNAME:CEST
DTSTART:20250330T010000
END:DAYLIGHT
BEGIN:STANDARD
TZOFFSETFROM:+0200
TZOFFSETTO:+0100
TZNAME:CET
DTSTART:20251026T010000
END:STANDARD
BEGIN:DAYLIGHT
TZOFFSETFROM:+0100
TZOFFSETTO:+0200
TZNAME:CEST
DTSTART:20260329T010000
END:DAYLIGHT
BEGIN:STANDARD
TZOFFSETFROM:+0200
TZOFFSETTO:+0100
TZNAME:CET
DTSTART:20261025T010000
END:STANDARD
END:VTIMEZONE
BEGIN:VEVENT
DTSTART;VALUE=DATE:20251203
DTEND;VALUE=DATE:20251204
DTSTAMP:20260423T135941
CREATED:20250918T101640Z
LAST-MODIFIED:20251017T074510Z
UID:1821-1764720000-1764806399@fwg-landkreis-miesbach.de
SUMMARY:Großartige Neuigkeiten von der Freien Wähler Gemeinschaft!
DESCRIPTION:Wir sind stolz\, euch mitteilen zu können\, dass unser Jens Zangenfeind bei der Nominierungsversammlung der Freien Wähler Gemeinschaft am Donnerstag mit 100% Zustimmung als Landratskandidat bestätigt wurde!
URL:https://fwg-landkreis-miesbach.de/event/grossartige-neuigkeiten-von-der-freien-waehler-gemeinschaft/
CATEGORIES:Landkreis-FWG
END:VEVENT
BEGIN:VEVENT
DTSTART;TZID=Europe/Berlin:20251206T120000
DTEND;TZID=Europe/Berlin:20251207T220000
DTSTAMP:20260423T135941
CREATED:20251110T113714Z
LAST-MODIFIED:20251110T120051Z
UID:2529-1765022400-1765144800@fwg-landkreis-miesbach.de
SUMMARY:Christkindlmarkt
DESCRIPTION:am Samstag und Sonntag 06.-07.12.\nin Fischbachau\, Rathausinnenhof
URL:https://fwg-landkreis-miesbach.de/event/christkindlmarkt/
CATEGORIES:Fischbachau
END:VEVENT
BEGIN:VEVENT
DTSTART;VALUE=DATE:20251209
DTEND;VALUE=DATE:20251210
DTSTAMP:20260423T135941
CREATED:20250918T100715Z
LAST-MODIFIED:20251017T074456Z
UID:1819-1765238400-1765324799@fwg-landkreis-miesbach.de
SUMMARY:Kinder-Triathlon - eine tolle Sache!
DESCRIPTION:Danke an alle Beteiligten für euer Engagement.
URL:https://fwg-landkreis-miesbach.de/event/kinder-triathlon-eine-tolle-sache/
CATEGORIES:Landkreis-FWG
END:VEVENT
BEGIN:VEVENT
DTSTART;VALUE=DATE:20251217
DTEND;VALUE=DATE:20251218
DTSTAMP:20260423T135941
CREATED:20250820T055134Z
LAST-MODIFIED:20251017T074515Z
UID:1153-1765929600-1766015999@fwg-landkreis-miesbach.de
SUMMARY:Arbeitstreffen der FWG
DESCRIPTION:Ortsvorsitzende sowie Vertreterinnen und Vertreter aus allen Gemeinden kamen zusammen\, um über aktuelle Themen\, die Kommunalwahl 2026 und gemeinsame Ziele im Landkreis zu sprechen.\nMit Engagement\, Teamgeist – und dem festen Willen\, die Zukunft gemeinsam mit den Menschen im Landkreis zu gestalten.
URL:https://fwg-landkreis-miesbach.de/event/arbeitstreffen-der-fwg/
CATEGORIES:Landkreis-FWG
END:VEVENT
END:VCALENDAR