BEGIN:VCALENDAR
VERSION:2.0
PRODID:-//FWG - FREIE WÄHLER GEMEINSCHAFT - ECPv6.15.12.2//NONSGML v1.0//EN
CALSCALE:GREGORIAN
METHOD:PUBLISH
X-ORIGINAL-URL:https://fwg-landkreis-miesbach.de
X-WR-CALDESC:Veranstaltungen für FWG - FREIE WÄHLER GEMEINSCHAFT
REFRESH-INTERVAL;VALUE=DURATION:PT1H
X-Robots-Tag:noindex
X-PUBLISHED-TTL:PT1H
BEGIN:VTIMEZONE
TZID:Europe/Berlin
BEGIN:DAYLIGHT
TZOFFSETFROM:+0100
TZOFFSETTO:+0200
TZNAME:CEST
DTSTART:20250330T010000
END:DAYLIGHT
BEGIN:STANDARD
TZOFFSETFROM:+0200
TZOFFSETTO:+0100
TZNAME:CET
DTSTART:20251026T010000
END:STANDARD
BEGIN:DAYLIGHT
TZOFFSETFROM:+0100
TZOFFSETTO:+0200
TZNAME:CEST
DTSTART:20260329T010000
END:DAYLIGHT
BEGIN:STANDARD
TZOFFSETFROM:+0200
TZOFFSETTO:+0100
TZNAME:CET
DTSTART:20261025T010000
END:STANDARD
BEGIN:DAYLIGHT
TZOFFSETFROM:+0100
TZOFFSETTO:+0200
TZNAME:CEST
DTSTART:20270328T010000
END:DAYLIGHT
BEGIN:STANDARD
TZOFFSETFROM:+0200
TZOFFSETTO:+0100
TZNAME:CET
DTSTART:20271031T010000
END:STANDARD
END:VTIMEZONE
BEGIN:VEVENT
DTSTART;TZID=Europe/Berlin:20260228T100000
DTEND;TZID=Europe/Berlin:20260228T130000
DTSTAMP:20260419T192301
CREATED:20260203T120408Z
LAST-MODIFIED:20260203T121939Z
UID:4009-1772272800-1772283600@fwg-landkreis-miesbach.de
SUMMARY:Infostand Rottach-Egern
DESCRIPTION:10:00 – 13:00 Uhr Infostand am Café Tremmel in Rottach
URL:https://fwg-landkreis-miesbach.de/event/infostand-2/
CATEGORIES:Rottach-Egern
END:VEVENT
END:VCALENDAR