BEGIN:VCALENDAR
VERSION:2.0
PRODID:-//FWG - FREIE WÄHLER GEMEINSCHAFT - ECPv6.15.12.2//NONSGML v1.0//EN
CALSCALE:GREGORIAN
METHOD:PUBLISH
X-ORIGINAL-URL:https://fwg-landkreis-miesbach.de
X-WR-CALDESC:Veranstaltungen für FWG - FREIE WÄHLER GEMEINSCHAFT
REFRESH-INTERVAL;VALUE=DURATION:PT1H
X-Robots-Tag:noindex
X-PUBLISHED-TTL:PT1H
BEGIN:VTIMEZONE
TZID:Europe/Berlin
BEGIN:DAYLIGHT
TZOFFSETFROM:+0100
TZOFFSETTO:+0200
TZNAME:CEST
DTSTART:20250330T010000
END:DAYLIGHT
BEGIN:STANDARD
TZOFFSETFROM:+0200
TZOFFSETTO:+0100
TZNAME:CET
DTSTART:20251026T010000
END:STANDARD
BEGIN:DAYLIGHT
TZOFFSETFROM:+0100
TZOFFSETTO:+0200
TZNAME:CEST
DTSTART:20260329T010000
END:DAYLIGHT
BEGIN:STANDARD
TZOFFSETFROM:+0200
TZOFFSETTO:+0100
TZNAME:CET
DTSTART:20261025T010000
END:STANDARD
BEGIN:DAYLIGHT
TZOFFSETFROM:+0100
TZOFFSETTO:+0200
TZNAME:CEST
DTSTART:20270328T010000
END:DAYLIGHT
BEGIN:STANDARD
TZOFFSETFROM:+0200
TZOFFSETTO:+0100
TZNAME:CET
DTSTART:20271031T010000
END:STANDARD
END:VTIMEZONE
BEGIN:VEVENT
DTSTART;TZID=Europe/Berlin:20260227T140000
DTEND;TZID=Europe/Berlin:20260227T170000
DTSTAMP:20260419T192749
CREATED:20260227T132900Z
LAST-MODIFIED:20260227T132900Z
UID:4864-1772200800-1772211600@fwg-landkreis-miesbach.de
SUMMARY:Infostand
DESCRIPTION:Unsere Kandidaten stellen sich vor!\nKommen Sie gerne mit uns persönlich ins Gespräch. Unser Bürgermeisterkandidat sowie die Kandidaten für den Gemeinde- und Kreisrat sind für Sie vor Ort.\nWir freuen uns auf viele interessante Gespräche.
URL:https://fwg-landkreis-miesbach.de/event/infostand-3-2-3-2/
LOCATION:Bahnhofsvorplatz\, Bahnhofstr. 2\, Hausham\, 83734
CATEGORIES:Hausham
END:VEVENT
END:VCALENDAR