BEGIN:VCALENDAR
VERSION:2.0
PRODID:-//FWG - FREIE WÄHLER GEMEINSCHAFT - ECPv6.15.12.2//NONSGML v1.0//EN
CALSCALE:GREGORIAN
METHOD:PUBLISH
X-WR-CALNAME:FWG - FREIE WÄHLER GEMEINSCHAFT
X-ORIGINAL-URL:https://fwg-landkreis-miesbach.de
X-WR-CALDESC:Veranstaltungen für FWG - FREIE WÄHLER GEMEINSCHAFT
REFRESH-INTERVAL;VALUE=DURATION:PT1H
X-Robots-Tag:noindex
X-PUBLISHED-TTL:PT1H
BEGIN:VTIMEZONE
TZID:Europe/Berlin
BEGIN:DAYLIGHT
TZOFFSETFROM:+0100
TZOFFSETTO:+0200
TZNAME:CEST
DTSTART:20250330T010000
END:DAYLIGHT
BEGIN:STANDARD
TZOFFSETFROM:+0200
TZOFFSETTO:+0100
TZNAME:CET
DTSTART:20251026T010000
END:STANDARD
BEGIN:DAYLIGHT
TZOFFSETFROM:+0100
TZOFFSETTO:+0200
TZNAME:CEST
DTSTART:20260329T010000
END:DAYLIGHT
BEGIN:STANDARD
TZOFFSETFROM:+0200
TZOFFSETTO:+0100
TZNAME:CET
DTSTART:20261025T010000
END:STANDARD
BEGIN:DAYLIGHT
TZOFFSETFROM:+0100
TZOFFSETTO:+0200
TZNAME:CEST
DTSTART:20270328T010000
END:DAYLIGHT
BEGIN:STANDARD
TZOFFSETFROM:+0200
TZOFFSETTO:+0100
TZNAME:CET
DTSTART:20271031T010000
END:STANDARD
END:VTIMEZONE
BEGIN:VEVENT
DTSTART;TZID=Europe/Berlin:20260207T111100
DTEND;TZID=Europe/Berlin:20260207T160000
DTSTAMP:20260423T120344
CREATED:20260112T161651Z
LAST-MODIFIED:20260113T105943Z
UID:2811-1770462660-1770480000@fwg-landkreis-miesbach.de
SUMMARY:Erster Kinder- Faschingszug  in Warngau
DESCRIPTION:7 Februar 2026\nErster\nKinder-\nFaschingszug\n in Warngau
URL:https://fwg-landkreis-miesbach.de/event/erster-kinder-faschingszug-in-warngau/
CATEGORIES:Warngau
END:VEVENT
BEGIN:VEVENT
DTSTART;TZID=Europe/Berlin:20260207T193000
DTEND;TZID=Europe/Berlin:20260207T220000
DTSTAMP:20260423T120344
CREATED:20260116T204109Z
LAST-MODIFIED:20260116T205305Z
UID:3050-1770492600-1770501600@fwg-landkreis-miesbach.de
SUMMARY:Kandidatenvorstellung in Wörnsmühl
DESCRIPTION:
URL:https://fwg-landkreis-miesbach.de/event/kandidatenvorstellung-in-woernsmuehl/
LOCATION:Gasthaus Nägele\, Dorfstr. 16\, Fischbachau/ Wörnsmühl\, 83730
CATEGORIES:Fischbachau
ORGANIZER;CN="FWG Fischbachau":MAILTO:info@fwg-fischbachau.de
END:VEVENT
END:VCALENDAR