BEGIN:VCALENDAR
VERSION:2.0
PRODID:-//FWG - FREIE WÄHLER GEMEINSCHAFT - ECPv6.15.12.2//NONSGML v1.0//EN
CALSCALE:GREGORIAN
METHOD:PUBLISH
X-ORIGINAL-URL:https://fwg-landkreis-miesbach.de
X-WR-CALDESC:Veranstaltungen für FWG - FREIE WÄHLER GEMEINSCHAFT
REFRESH-INTERVAL;VALUE=DURATION:PT1H
X-Robots-Tag:noindex
X-PUBLISHED-TTL:PT1H
BEGIN:VTIMEZONE
TZID:Europe/Berlin
BEGIN:DAYLIGHT
TZOFFSETFROM:+0100
TZOFFSETTO:+0200
TZNAME:CEST
DTSTART:20250330T010000
END:DAYLIGHT
BEGIN:STANDARD
TZOFFSETFROM:+0200
TZOFFSETTO:+0100
TZNAME:CET
DTSTART:20251026T010000
END:STANDARD
BEGIN:DAYLIGHT
TZOFFSETFROM:+0100
TZOFFSETTO:+0200
TZNAME:CEST
DTSTART:20260329T010000
END:DAYLIGHT
BEGIN:STANDARD
TZOFFSETFROM:+0200
TZOFFSETTO:+0100
TZNAME:CET
DTSTART:20261025T010000
END:STANDARD
BEGIN:DAYLIGHT
TZOFFSETFROM:+0100
TZOFFSETTO:+0200
TZNAME:CEST
DTSTART:20270328T010000
END:DAYLIGHT
BEGIN:STANDARD
TZOFFSETFROM:+0200
TZOFFSETTO:+0100
TZNAME:CET
DTSTART:20271031T010000
END:STANDARD
END:VTIMEZONE
BEGIN:VEVENT
DTSTART;TZID=Europe/Berlin:20260129T200000
DTEND;TZID=Europe/Berlin:20260130T000000
DTSTAMP:20260419T210818
CREATED:20260112T162658Z
LAST-MODIFIED:20260112T162737Z
UID:2817-1769716800-1769731200@fwg-landkreis-miesbach.de
SUMMARY:Wahlveranstaltungen der Freien Wähler Gemeinschaft Warngau-Wall Gasthof zur Post in Warngau
DESCRIPTION:Am Donnerstag\, den 29.01.2026 um 20:00 Uhr Gasthof zur Post in Warngau \nMit stellv. Landrat und Landrats-Kandidaten Herrn Jens Zangenfeind
URL:https://fwg-landkreis-miesbach.de/event/wahlveranstaltungen-der-freien-waehler-gemeinschaft-warngau-wall-gasthof-zur-post-in-warngau/
CATEGORIES:Warngau
END:VEVENT
END:VCALENDAR