BEGIN:VCALENDAR
VERSION:2.0
PRODID:-//FWG - FREIE WÄHLER GEMEINSCHAFT - ECPv6.15.12.2//NONSGML v1.0//EN
CALSCALE:GREGORIAN
METHOD:PUBLISH
X-WR-CALNAME:FWG - FREIE WÄHLER GEMEINSCHAFT
X-ORIGINAL-URL:https://fwg-landkreis-miesbach.de
X-WR-CALDESC:Veranstaltungen für FWG - FREIE WÄHLER GEMEINSCHAFT
REFRESH-INTERVAL;VALUE=DURATION:PT1H
X-Robots-Tag:noindex
X-PUBLISHED-TTL:PT1H
BEGIN:VTIMEZONE
TZID:Europe/Berlin
BEGIN:DAYLIGHT
TZOFFSETFROM:+0100
TZOFFSETTO:+0200
TZNAME:CEST
DTSTART:20250330T010000
END:DAYLIGHT
BEGIN:STANDARD
TZOFFSETFROM:+0200
TZOFFSETTO:+0100
TZNAME:CET
DTSTART:20251026T010000
END:STANDARD
BEGIN:DAYLIGHT
TZOFFSETFROM:+0100
TZOFFSETTO:+0200
TZNAME:CEST
DTSTART:20260329T010000
END:DAYLIGHT
BEGIN:STANDARD
TZOFFSETFROM:+0200
TZOFFSETTO:+0100
TZNAME:CET
DTSTART:20261025T010000
END:STANDARD
BEGIN:DAYLIGHT
TZOFFSETFROM:+0100
TZOFFSETTO:+0200
TZNAME:CEST
DTSTART:20270328T010000
END:DAYLIGHT
BEGIN:STANDARD
TZOFFSETFROM:+0200
TZOFFSETTO:+0100
TZNAME:CET
DTSTART:20271031T010000
END:STANDARD
END:VTIMEZONE
BEGIN:VEVENT
DTSTART;TZID=Europe/Berlin:20260203T193000
DTEND;TZID=Europe/Berlin:20260203T220000
DTSTAMP:20260419T225823
CREATED:20260122T153040Z
LAST-MODIFIED:20260122T153040Z
UID:3400-1770147000-1770156000@fwg-landkreis-miesbach.de
SUMMARY:Stammtisch
DESCRIPTION:Stammtisch\n \nUnser Stammtisch findet immer am ersten Dienstag im Monat statt. Alle Bürgerinnen und Bürger sind herzlich willkommen.
URL:https://fwg-landkreis-miesbach.de/event/stammtisch/
CATEGORIES:Hausham
END:VEVENT
END:VCALENDAR